BEGIN:VCALENDAR
VERSION:2.0
PRODID:icalendar-ruby
CALSCALE:GREGORIAN
METHOD:PUBLISH
BEGIN:VEVENT
DTSTAMP:20260426T015519Z
UID:event-55097@stampinup.net
DTSTART;VALUE=DATE:20200806
DTEND;VALUE=DATE:20200806
CREATED:20200611T111556
DESCRIPTION:Fall Cards\n\nIt may seem a bit early\, but we’d better get t
 hose fall cards made because Christmas Card making time is almost here!  
 We will make 5 fun fall cards.\n\nWhen:  Choose one of the dates listed b
 elow to attend\n\n\n	Thursday\, August 6\, 1:00 OR 6:30 P.M.\n	Tuesday\, A
 ugust 11\, 1:00 OR 6:30 P.M.\n	Thursday\, August 20\, 1:00 OR 6:30 P.M.\n\
 n\n \n\nWhere: StampThat\, New Freedom\, PA\n\nCost: non-refundable $18.0
 0 \n\nRSVP:  with payment\, at least 2 days before you plan to attend cla
 ss\n\nWhat to bring: Snail &amp\; Tear n Tape\n\n\nEvent link: https://sta
 mpinup.net/crm/events/55097
LAST-MODIFIED:20200611T111556
LOCATION:StampThat Studio\, New Freedom\, PA
ORGANIZER;CN=Becky Jensen:mailto:becky@stampthat.com
SUMMARY:Fall Cards
URL;VALUE=URI:https://stampinup.net/crm/events/55097
END:VEVENT
END:VCALENDAR
