BEGIN:VCALENDAR
VERSION:2.0
PRODID:icalendar-ruby
CALSCALE:GREGORIAN
METHOD:PUBLISH
BEGIN:VEVENT
DTSTAMP:20260424T143536Z
UID:event-55063@stampinup.net
DTSTART;VALUE=DATE:20200623
DTEND;VALUE=DATE:20200623
CREATED:20200611T105932
DESCRIPTION:June Stamp of the Month – Celebrate Sunflowers\n\n \n\nWe wi
 ll be creating exclusively with the Celebrate Sunflowers stamp set.  Thos
 e who choose\, may include the Celebrate Sunflowers stamp set and coordina
 ting Sunflowers Dies with the class for a reduced class price. You will ma
 ke 5 cards in this class.    \n\n \n\nWhen:  Tuesday\, June 25\, 1:00
  p.m. OR 6:30 p.m. \n\nWhere:  StampThat Studio\, New Freedom\, PA \n\nCo
 st:  Class your way – choose an option below \n\n\n	$36.00 Stamp set &a
 mp\; Class \n	$63.00 Stamp set\, Dies\, &amp\;Class \n	$18.00 for Class on
 ly \n	$8.40 Shipping if you would like to join the class long distance\n\n
 \nRSVP:  by June 9 so I can order stamps/dies and have them in time for c
 lass \n\nSupplies to bring:  Snail and Sticky Strip/Tear and Tape \n\n\nE
 vent link: https://stampinup.net/crm/events/55063
LAST-MODIFIED:20200611T105932
LOCATION:StampThat Studio\, New Freedom\, PA
ORGANIZER;CN=Becky Jensen:mailto:becky@stampthat.com
SUMMARY:Stamp of the Month - Celebrate Sunflowers
URL;VALUE=URI:https://stampinup.net/crm/events/55063
END:VEVENT
END:VCALENDAR
