BEGIN:VCALENDAR
VERSION:2.0
PRODID:icalendar-ruby
CALSCALE:GREGORIAN
METHOD:PUBLISH
BEGIN:VEVENT
DTSTAMP:20260425T194323Z
UID:event-54890@stampinup.net
DTSTART;TZID=America/New_York:20201010T093000
DTEND;TZID=America/New_York:20201010T120000
CREATED:20200610T112455
DESCRIPTION:\n\nEvent link: https://stampinup.net/crm/events/54890
LAST-MODIFIED:20200610T112455
ORGANIZER;CN=Maria Mitsdarfer:mailto:shimmerinthesunlight@gmail.com
SUMMARY:Stamp Club
URL;VALUE=URI:https://stampinup.net/crm/events/54890
END:VEVENT
END:VCALENDAR
