BEGIN:VCALENDAR
VERSION:2.0
PRODID:icalendar-ruby
CALSCALE:GREGORIAN
METHOD:PUBLISH
BEGIN:VEVENT
DTSTAMP:20260424T125010Z
UID:event-5436@stampinup.net
DTSTART;TZID=America/New_York:20191208T193000
DTEND;TZID=America/New_York:20191208T213000
CREATED:20190912T181756
DESCRIPTION:Stamp &amp\; Create Team Holiday Party - This team meeting is f
 or the Stamp &amp\; Create team to get together\, do make &amp\; takes\, a
 nd discuss business.  Interested in joining our team?  Contact me today!
  \n\n\nEvent link: https://stampinup.net/crm/events/5436
LAST-MODIFIED:20191122T191540
LOCATION:3800 Holmes Rd.\, Inverary\, 3800 Holmes Rd.\, Inverary
ORGANIZER;CN=Lisa Henderson:mailto:lisa.henderson003@gmail.com
SUMMARY:Team Holiday Party
URL;VALUE=URI:https://stampinup.net/crm/events/5436
END:VEVENT
END:VCALENDAR
