BEGIN:VCALENDAR
VERSION:2.0
PRODID:icalendar-ruby
CALSCALE:GREGORIAN
METHOD:PUBLISH
BEGIN:VEVENT
DTSTAMP:20260422T143936Z
UID:event-54344@stampinup.net
DTSTART;TZID=America/New_York:20200627T200000
DTEND;TZID=America/New_York:20200627T220000
CREATED:20200607T003554
DESCRIPTION:Artistry Blooms Workshop details:\nJoin us to make up to 4 proj
 ects using the new Artistry Blooms Suite of products from Stampin’ Up!\n
 \n\nFeatured Supplies:\nArtistry Blooms Suite Collection 154150\nOr\nHand 
 drawn Blooms Bundle 154101\nArtistry Blooms Designer Series Paper 192495\n
 Rainbow Glimmer Paper 153056\nArtistry Blooms Sequins 152477\n\nRecommende
 d Tools:\nSponge Brayer\nAqua Painter or Brush\nVersamark\nWhite Embossing
  Powder\nHeat Tool\nCircle Die or Punch 2.5”or 3”\n\nColors:\nWhisper 
 White\nMagenta Madness\nCalypso Coral\nMango Melody\nCostal Cabana\nGranny
  Apple Green\nRich Razzleberry\nGorgeous Grape\n\n\nThe host code for the 
 Artistry Blooms workshop is: QB3DZTES\n\nOrder supplies at:\n\nhttps://mi
 chellehollings.stampinup.net/\n\nAll instructions and supplies for the pro
 jects we are making are available in the files section of the Saturday Nig
 ht Crafters Facebook Group. \n\nEvent link: https://stampinup.net/crm/eve
 nts/54344
LAST-MODIFIED:20200627T052118
LOCATION:Saturday Night Crafters Facebook Group\, https://www.facebook.com/
 groups/2531892516846881/?ref=share
ORGANIZER;CN=Michelle Hollings:mailto:michellena317@gmail.com
SUMMARY:Artistry Blooms Workshop
URL;VALUE=URI:https://stampinup.net/crm/events/54344
END:VEVENT
END:VCALENDAR
