BEGIN:VCALENDAR
VERSION:2.0
PRODID:icalendar-ruby
CALSCALE:GREGORIAN
METHOD:PUBLISH
BEGIN:VEVENT
DTSTAMP:20260423T194921Z
UID:event-53574@stampinup.net
DTSTART;VALUE=DATE:20210101
DTEND;VALUE=DATE:20210101
CREATED:20200602T211702
DESCRIPTION:Besides designing the cards\, I also cut the cardstock\, add th
 e embellishments and put all the supplies in an envelope.\n\nEvent link: h
 ttps://stampinup.net/crm/events/53574
LAST-MODIFIED:20200602T211702
ORGANIZER;CN=Sue Lehrer:mailto:stillstamping@yahoo.com
SUMMARY:Design Cards for my Stamp Clubs
URL;VALUE=URI:https://stampinup.net/crm/events/53574
END:VEVENT
END:VCALENDAR
