BEGIN:VCALENDAR
VERSION:2.0
PRODID:icalendar-ruby
CALSCALE:GREGORIAN
METHOD:PUBLISH
BEGIN:VEVENT
DTSTAMP:20260421T034827Z
UID:event-53570@stampinup.net
DTSTART;VALUE=DATE:20210101
DTEND;VALUE=DATE:20210101
CREATED:20200602T205938
DESCRIPTION:Sharing a card sketch and any other Stampin' Up! news.\n\nEvent
  link: https://stampinup.net/crm/events/53570
LAST-MODIFIED:20211201T195104
ORGANIZER;CN=Sue Lehrer:mailto:stillstamping@yahoo.com
SUMMARY:Weekly Email to Customers
URL;VALUE=URI:https://stampinup.net/crm/events/53570
END:VEVENT
END:VCALENDAR
