BEGIN:VCALENDAR
VERSION:2.0
PRODID:icalendar-ruby
CALSCALE:GREGORIAN
METHOD:PUBLISH
BEGIN:VEVENT
DTSTAMP:20260423T034111Z
UID:event-53418@stampinup.net
DTSTART;TZID=America/New_York:20200728T100000
DTEND;TZID=America/New_York:20200728T120000
CREATED:20200602T092340
DESCRIPTION:\nPaper Pumpkin Craft Time – Virtually on Zoom\n\nFourth Tues
 day of the month 10 am\n\nRSVP Needed Friday before event so I can send yo
 u the zoom link\nSince you have everything you need right in your box you 
 can still enjoy some creative time at home. I'll will let you know when we
  will start gathering again. \n\n \n\nMean while\, if you are not a Paper
  Pumpkin subscriber it is a great time to give it a try or give it as a gi
 ft \n\n \n\nEvent link: https://stampinup.net/crm/events/53418
LAST-MODIFIED:20200602T092340
LOCATION:Jini's Classroom
ORGANIZER;CN=Jini Merck:mailto:stampwithjini@gmail.com
SUMMARY:Paper Pumpkin Craft Time
URL;VALUE=URI:https://stampinup.net/crm/events/53418
END:VEVENT
END:VCALENDAR
