BEGIN:VCALENDAR
VERSION:2.0
PRODID:icalendar-ruby
CALSCALE:GREGORIAN
METHOD:PUBLISH
BEGIN:VEVENT
DTSTAMP:20260421T094515Z
UID:event-52915@stampinup.net
DTSTART;TZID=America/Denver:20200609T110000
DTEND;TZID=America/Denver:20200609T130000
CREATED:20200529T234005
DESCRIPTION:I am so excited to be able to offer an in person event for in w
 hat seems like FOREVER!!! We will be focusing on the Ornate Garden Suite. 
 You will learn how to make two fun-fold cards and 2 other cards. Invite a 
 friend to join the fun!!!!\nClass fee is $15\nRSVP with your payment by Ju
 ne 6.\n\nEvent link: https://stampinup.net/crm/events/52915
LAST-MODIFIED:20200529T234005
LOCATION:My House\, 3876 E 12 N\, Rigby ID
ORGANIZER;CN=Brenda Paulsen:mailto:brenda@mypastorswifedesigns.com
SUMMARY:Ornate Gate Card Class
URL;VALUE=URI:https://stampinup.net/crm/events/52915
END:VEVENT
END:VCALENDAR
