BEGIN:VCALENDAR
VERSION:2.0
PRODID:icalendar-ruby
CALSCALE:GREGORIAN
METHOD:PUBLISH
BEGIN:VEVENT
DTSTAMP:20260424T151110Z
UID:event-52397@stampinup.net
DTSTART;TZID=America/New_York:20200617T180000
DTEND;TZID=America/New_York:20200617T210000
CREATED:20200525T120104
DESCRIPTION:I can't wait to create with you using new Annual Catalog produc
 ts! This will be a special meeting\, where we will create multiple project
 s and some business resources together in a Zoom classroom.\n\nThis meetin
 g kit will include a variety of products to complete the projects and reso
 urces\, plus a fun gift from me!  \n\nYou will need to order the followin
 g products when the catalog goes live on June 3rd if you would like to cre
 ate together on the day of the meeting\, otherwise\, you can complete the 
 projects anytime on your own:\n\n     *154087 Pattern Play Bundle\n  
    *152633 Many Mates Stamp set\n\nWant to join the fun?  It's not too l
 ate!  By joining my team now\, you have access to new Annual catalog prod
 ucts FREE with your starter kit\, which is a perk of being a demonstrator!
    Plus the perks of being an Inky Finger!  \n\nGet your starter kit her
 e!\nSee the perks of joining my team here!\n\nRSVP:  by June 9th\nFee: $2
 0\nSupplies:  paper trimmer\, scissors\, adhesive\, Pattern Play Bundle\,
  Many Mates stamp set\, and  meeting kit\n\nEvent link: https://stampinup
 .net/crm/events/52397
LAST-MODIFIED:20200528T213152
LOCATION:Mel's Virtual Ink Pad
ORGANIZER;CN=Melanie Hockin:mailto:melsinkyfingers@gmail.com
SUMMARY:Inky Fingers June Team Meeting and Creative Session
URL;VALUE=URI:https://stampinup.net/crm/events/52397
END:VEVENT
END:VCALENDAR
