BEGIN:VCALENDAR
VERSION:2.0
PRODID:icalendar-ruby
CALSCALE:GREGORIAN
METHOD:PUBLISH
BEGIN:VEVENT
DTSTAMP:20260421T115731Z
UID:event-52290@stampinup.net
DTSTART;TZID=America/Los_Angeles:20200529T080000
DTEND;TZID=America/Los_Angeles:20200529T090000
CREATED:20200524T193811
DESCRIPTION:Check out my weekly fun fold tutorial over on my YouTube Channe
 l.\nClick here for the direct link to the Fun Folds playlist.\n\nEvent lin
 k: https://stampinup.net/crm/events/52290
LAST-MODIFIED:20200524T220640
ORGANIZER;CN=Erica Edney:mailto:ericajedney@gmail.com
SUMMARY:YouTube Video Tutorial-Fun Fold Playlist
URL;VALUE=URI:https://stampinup.net/crm/events/52290
RRULE:FREQ=WEEKLY;UNTIL=20201231T170000Z;BYDAY=FR
END:VEVENT
END:VCALENDAR
