BEGIN:VCALENDAR
VERSION:2.0
PRODID:icalendar-ruby
CALSCALE:GREGORIAN
METHOD:PUBLISH
BEGIN:VEVENT
DTSTAMP:20260423T063748Z
UID:event-51896@stampinup.net
DTSTART;TZID=America/Denver:20200520T200000
DTEND;TZID=America/Denver:20200520T210000
CREATED:20200520T162017
DESCRIPTION:\n\nEvent link: https://stampinup.net/crm/events/51896
LAST-MODIFIED:20200520T162017
ORGANIZER;CN=Karina Chin:mailto:kchin2@telus.net
SUMMARY:Krafting Crew Training Night
URL;VALUE=URI:https://stampinup.net/crm/events/51896
END:VEVENT
END:VCALENDAR
