BEGIN:VCALENDAR
VERSION:2.0
PRODID:icalendar-ruby
CALSCALE:GREGORIAN
METHOD:PUBLISH
BEGIN:VEVENT
DTSTAMP:20260420T042401Z
UID:event-51565@stampinup.net
DTSTART;TZID=America/Chicago:20200519T160000
DTEND;TZID=America/Chicago:20200519T170000
CREATED:20200517T144156
DESCRIPTION:Virtual stamp club meeting at 4 pm.\nHost is Jill H\nHost Code 
 is:  9GU9MYY4\n\nLast month to order products from the 2019-20 annual cat
 alog. \n\nEvent link: https://stampinup.net/crm/events/51565
LAST-MODIFIED:20200517T144156
ORGANIZER;CN=Barbara Faulkner:mailto:bfaulkner51@gmail.com
SUMMARY:3rd Tuesday Night Stampers
URL;VALUE=URI:https://stampinup.net/crm/events/51565
END:VEVENT
END:VCALENDAR
