BEGIN:VCALENDAR
VERSION:2.0
PRODID:icalendar-ruby
CALSCALE:GREGORIAN
METHOD:PUBLISH
BEGIN:VEVENT
DTSTAMP:20260423T191639Z
UID:event-51421@stampinup.net
DTSTART;TZID=America/Chicago:20221112T130000
DTEND;TZID=America/Chicago:20221112T150000
CREATED:20200515T150233
DESCRIPTION:Party with the Pretties team at our monthly gathering with lots
  of stamping\, prizes\, business tips\, swaps\, creative and business chal
 lenges and snacks. We meet live in Little Rock or on Zoom! All happy shopp
 ers are welcome to this FUN event!  All are welcome as guests\, but pleas
 e email me to RSVP cogbill22@yahoo.com or FB message me. cogbill22@yahoo.c
 om. RSVP due 2 week prior for packets to be shipped to you ahead of time. 
 Packets are $5 for pick up for Pretties Team Members and $8 for shipped. A
 dditional packets for Pretties Team Members are $15 if available. \n\nEven
 t link: https://stampinup.net/crm/events/51421
LAST-MODIFIED:20220510T094428
LOCATION:wherever you craft! 
ORGANIZER;CN=Kay Cogbill:mailto:cogbill22@yahoo.com
SUMMARY:Pretties Team  LIVE and Online  Gathering
URL;VALUE=URI:https://stampinup.net/crm/events/51421
END:VEVENT
END:VCALENDAR
