BEGIN:VCALENDAR
VERSION:2.0
PRODID:icalendar-ruby
CALSCALE:GREGORIAN
METHOD:PUBLISH
BEGIN:VEVENT
DTSTAMP:20260424T173202Z
UID:event-51414@stampinup.net
DTSTART;TZID=America/Chicago:20200823T150000
DTEND;TZID=America/Chicago:20200823T160000
CREATED:20200515T142733
DESCRIPTION:Click here to join us for Mystery Stamping in the Events sectio
 n of my Facebook Group "papermadeprettierclub" &gt\; https://www.facebook
 .com/groups/329579550512449/\n\nEvent link: https://stampinup.net/crm/even
 ts/51414
LAST-MODIFIED:20200817T000938
LOCATION:wherever you craft! 
ORGANIZER;CN=Kay Cogbill:mailto:cogbill22@yahoo.com
SUMMARY:Mystery Stamping!  on papermadeprettierclub Facebook Group
URL;VALUE=URI:https://stampinup.net/crm/events/51414
END:VEVENT
END:VCALENDAR
