BEGIN:VCALENDAR
VERSION:2.0
PRODID:icalendar-ruby
CALSCALE:GREGORIAN
METHOD:PUBLISH
BEGIN:VEVENT
DTSTAMP:20260422T034120Z
UID:event-51281@stampinup.net
DTSTART;VALUE=DATE:20200603
DTEND;VALUE=DATE:20200603
CREATED:20200514T143630
DESCRIPTION:PLEASE CONTACT ME IF YOU NEED A CATALOG! \nYOU'RE GOING TO LOV
 E IT!\n\nEvent link: https://stampinup.net/crm/events/51281
LAST-MODIFIED:20200514T143630
ORGANIZER;CN=Michelle Brown:mailto:stircrazymom@hotmail.com
SUMMARY:New Annual Catalog Begins!
URL;VALUE=URI:https://stampinup.net/crm/events/51281
END:VEVENT
END:VCALENDAR
