BEGIN:VCALENDAR
VERSION:2.0
PRODID:icalendar-ruby
CALSCALE:GREGORIAN
METHOD:PUBLISH
BEGIN:VEVENT
DTSTAMP:20260421T001821Z
UID:event-50605@stampinup.net
DTSTART;TZID=America/New_York:20200527T190000
DTEND;TZID=America/New_York:20200527T210000
CREATED:20200504T172142
DESCRIPTION:Online Stampin' Bingo Night\nCost is $49 (includes shipping) \
 nWednesday\, May 27 at 7pm EST\n\nMy "in person" Stampin' BINGO is so much
  fun\, and I want to bring that joy to my long distance friends as well! 
 This round of Online BINGO is limited.\n\nYou must be on Facebook in order
  to participate. It will be conducted through a Facebook Group that I set 
 up for Bingo. You also must be present at the LIVE time. \n\nIn the mail
 \, the week of the event\, you will receive two BINGO cards\, supplies for
  two make and takes and a SWAG BAG of product ($25 value). \n\nDuring th
 e event\, we will play four games of BINGO with fabulous prizes!!\n\nI wil
 l call the numbers on a live video on a private Facebook Group. You will n
 eed to watch the video while it's live in order to participate. I will go 
 slowly to make sure everyone keeps up. I will have copies of each player's
  card. Once someone calls BINGO\, I will check their card.  Prizes will b
 e mailed out after the event. \n\nIf for some reason we have technical di
 fficulties and you are not on the event while I am calling the numbers\, I
  will TRY to play your BINGO card. Sometimes I have too many cards to play
  so this becomes difficult. \n\nAlso\, if your package does not arrive on
  time\, let me know. I will have digital copies of everyone's BINGO card a
 nd can email it to you if needed. We will work very hard to make sure ever
 yone is able to play! \n\nBetween games\, we will prepare our Make and T
 akes. You can make your projects then\, or you can make them later as you 
 will have access to the Facebook Live afterwards as well. Your Make and T
 ake kits will include everything but stamped images (per SU policy.) I wil
 l make sure to use stamps that are easily substituted so you can use what 
 you already have. \n\nEveryone is welcome! If you are a customer\, a newb
 ie\, an "oldie" or even another SU Demo\, you are welcome to play! This is
  fun for everyone!! The only limitation is that you must be a US resident 
 to play (again SU policy.)\n\nSpace is limited for this event\, so registe
 r today!  We must have at least 8 participants to hold the Online Bingo N
 ight.  If not\, your payment will be refunded to you. \n\nRSVP and payme
 nt are due by Wednesday\, May 13!!\n\nEmail me for the registration link a
 t amy.frillici@yahoo.com\n\n\nEvent link: https://stampinup.net/crm/events
 /50605
LAST-MODIFIED:20200504T172142
LOCATION:the comfort of your own home
ORGANIZER;CN=Amy Frillici:mailto:amy.frillici@yahoo.com
SUMMARY:Online Stampin’ Bingo Night
URL;VALUE=URI:https://stampinup.net/crm/events/50605
END:VEVENT
END:VCALENDAR
