BEGIN:VCALENDAR
VERSION:2.0
PRODID:icalendar-ruby
CALSCALE:GREGORIAN
METHOD:PUBLISH
BEGIN:VEVENT
DTSTAMP:20260424T032603Z
UID:event-4876@stampinup.net
DTSTART;TZID=America/New_York:20190917T120000
DTEND;TZID=America/New_York:20190917T130000
CREATED:20190912T133747
DESCRIPTION:Join Tami White\, and Linda Cullen\, for The Stampin Scoop Show
  on Facebook Live. The Stampin Scoop is a live interactive video broadcast
 \, where the viewers are part of the show. We share Stampin Up projects\, 
 inspiration\, news\, do live prize patrols and host monthly giveaways.\n\n
 The show airs bi-weekly on Tuesdays. Actual live show times may\, and are 
 updated under Facebook Events:\n\nTami White: www.facebook.com/stampwithta
 mi1\nLinda Cullen: www.facebook.com/craftystampin\n\nThe video will be liv
 e on my Facebook Page\, and the replay will remain on Facebook and be adde
 d to my Youtube channel immediately following the class.\n\nVisit my Faceb
 ook events for any time/date changes and updates.\nFacebook Events: https:
 //www.facebook.com/stampwithtami1/events/\n\nEvent link: https://stampinup
 .net/crm/events/4876
LAST-MODIFIED:20190912T133747
LOCATION:https://www.facebook.com/stampwithtami1
ORGANIZER;CN=Tami White:mailto:stampwithtami.sales@gmail.com
SUMMARY:Live Online Video Classd
URL;VALUE=URI:https://stampinup.net/crm/events/4876
END:VEVENT
END:VCALENDAR
