BEGIN:VCALENDAR
VERSION:2.0
PRODID:icalendar-ruby
CALSCALE:GREGORIAN
METHOD:PUBLISH
BEGIN:VEVENT
DTSTAMP:20260421T104925Z
UID:event-4863@stampinup.net
DTSTART;TZID=America/New_York:20200304T190000
DTEND;TZID=America/New_York:20200304T200000
CREATED:20190912T133346
DESCRIPTION:Hostess Club meets once a month.  Approximately once a year yo
 u will be Hostess and will receive all the Stampin' rewards.  Feel free t
 o invite outside guests or bring outside orders.\n\nWe meet the first Mond
 ay and Wednesday of each month\, at 1 pm &amp\; 7 pm.\n\nEvent link: https
 ://stampinup.net/crm/events/4863
LAST-MODIFIED:20200709T085538
LOCATION:My Studio\, 2604 10th Street Wyandotte\, MI  48192
ORGANIZER;CN=Susan LaCroix:mailto:SUSAN@LA-CROIX.NET
SUMMARY:Hostess Club
URL;VALUE=URI:https://stampinup.net/crm/events/4863
END:VEVENT
END:VCALENDAR
