BEGIN:VCALENDAR
VERSION:2.0
PRODID:icalendar-ruby
CALSCALE:GREGORIAN
METHOD:PUBLISH
BEGIN:VEVENT
DTSTAMP:20260425T164734Z
UID:event-48446@stampinup.net
DTSTART;TZID=America/Los_Angeles:20200401T000000
DTEND;TZID=America/Los_Angeles:20200531T120000
CREATED:20200329T114305
DESCRIPTION:Get the Ornate Style stamp set PLUS half a package of Designer 
 Series Paper PLUS 1/2 packge of Ornate Garden Ribbon PLUS the kit to make 
 5 lovely cards featuring the Ornate Style stamp set.  The kit includes ev
 erything you need including instructions (except ink and adhesive) to make
  5cards at home.\n\nCost is $48\nIf you order both Classes\, you will rece
 ive a Tutorial bundle with instructions for 90 (yes\, 90) cards created 
 by Stampin' Up! Demonstrators from around the world by email!\n\nBuy this 
 Class By Mail plus the Ornate Thanks Class by Mail and you receive a Tutor
 ial Bundle which includes the instructions to make 90 cards created by S
 tampin' Up! Demonstrators from around the world!\n\nIf you want any other 
 products from the Ornate Garden Suite\, you can add on to this class.\n\nE
 vent link: https://stampinup.net/crm/events/48446
LAST-MODIFIED:20200331T120811
ORGANIZER;CN=Melva Peters:mailto:stampinwithmelva@gmail.com
SUMMARY:Ornate Style Class By Mail
URL;VALUE=URI:https://stampinup.net/crm/events/48446
RRULE:FREQ=MONTHLY;UNTIL=20200831T190000Z
END:VEVENT
END:VCALENDAR
