BEGIN:VCALENDAR
VERSION:2.0
PRODID:icalendar-ruby
CALSCALE:GREGORIAN
METHOD:PUBLISH
BEGIN:VEVENT
DTSTAMP:20260420T160005Z
UID:event-47755@stampinup.net
DTSTART;TZID=America/Chicago:20200516T093000
DTEND;TZID=America/Chicago:20200516T123000
CREATED:20200311T173536
DESCRIPTION:We will not meet in person\, I will mail the supplies to you an
 d provide written instructions.\nWe will make 5 handsome hand stamped card
 s. \nCost $15.00\nCost $13.00 if paid registration is received by April 2
 3\, 2020\n\nThere will be an extra card for this class that you can add on
  for $2.00. Let me know if you want the inside to say Happy Fathers Day or
  Happy Birthday.\nItems you will need to complete the class:\nAdhesives\nC
 oloring Tools like markers\, colored pencils or blender pen\nSponges (item
  #141337) or Sponge Daubers (item #133773)\nInk Colors for sponging (horse
  card) - Coastal Cabana\, Daffodil Delight\, Mango Melody\, Old Olive and 
 Mossy Meadow. If you don't want to invest in full size ink pads\, we have 
 Uninked Stampin' Spots (item #141822) that you can use with reinkers.\n\nE
 vent link: https://stampinup.net/crm/events/47755
LAST-MODIFIED:20200411T090339
ORGANIZER;CN=Susan Miller:mailto:STAMPIN@DREAMLAKEDESIGN.COM
SUMMARY:Handsome Cards Class
URL;VALUE=URI:https://stampinup.net/crm/events/47755
END:VEVENT
END:VCALENDAR
