BEGIN:VCALENDAR
VERSION:2.0
PRODID:icalendar-ruby
CALSCALE:GREGORIAN
METHOD:PUBLISH
BEGIN:VEVENT
DTSTAMP:20260419T134538Z
UID:event-47596@stampinup.net
DTSTART;TZID=America/Chicago:20200317T183000
DTEND;TZID=America/Chicago:20200317T200000
CREATED:20200310T115021
DESCRIPTION:Build your card stash and have some creative fun in a positive 
 environment.  Brand new card-makers welcome as well as long-time crafters
 .  Y'all come!\nAll prepared supplies are ready--die cuts\, punches\, bow
 s already tied--simply stamp\, assemble\, and enjoy!\nAll occasion cards 6
  cards and envelopes (2 each of 3 designs)\nFREE with a minimum order or $
 20 class fee\n\nEvent link: https://stampinup.net/crm/events/47596
LAST-MODIFIED:20200310T115021
LOCATION:My Place\, 13246 Trentwood\, 78231
ORGANIZER;CN=Candy Rattray:mailto:crattray@sbcglobal.net
SUMMARY:Simply Cards Monthly Class
URL;VALUE=URI:https://stampinup.net/crm/events/47596
END:VEVENT
END:VCALENDAR
