BEGIN:VCALENDAR
VERSION:2.0
PRODID:icalendar-ruby
CALSCALE:GREGORIAN
METHOD:PUBLISH
BEGIN:VEVENT
DTSTAMP:20260424T062637Z
UID:event-4739@stampinup.net
DTSTART;TZID=America/Los_Angeles:20191025T123000
DTEND;TZID=America/Los_Angeles:20191025T160000
CREATED:20190912T123716
DESCRIPTION:Last Date to Register: October 12\, 2019\nTime: 12:30 -4:00\nCo
 st: $45.00\n8 cards 4 designs\nPlease remember to bring you adhesives and 
 scissors.  If you required adhesives\, I do have them for sale.\nThere ar
 e only 6 seats\, so register early.\n\nEvent link: https://stampinup.net/c
 rm/events/4739
LAST-MODIFIED:20190912T124012
LOCATION:Karen Gilbert\, #2-1195 14th Street
ORGANIZER;CN=Karen Gilbert:mailto:karen@simplysaidwithkaren.com
SUMMARY:Christmas Card Class
URL;VALUE=URI:https://stampinup.net/crm/events/4739
END:VEVENT
END:VCALENDAR
