BEGIN:VCALENDAR
VERSION:2.0
PRODID:icalendar-ruby
CALSCALE:GREGORIAN
METHOD:PUBLISH
BEGIN:VEVENT
DTSTAMP:20260425T221816Z
UID:event-46927@stampinup.net
DTSTART;TZID=America/Chicago:20200309T100000
DTEND;TZID=America/Chicago:20200309T120000
CREATED:20200306T110911
DESCRIPTION:Spring Card Class\n\nIs there anything lovelier or more wonderf
 ul than Springtime? Renewal of grass and flowers. Spring is the time of pl
 ans and projects. Yet in Spring\, at the end of the day\, all you want to 
 do is smell the earth. A Spring morning is the best weather God has to off
 er.\n\nMarch 9\, 2019\n10:00 am - 12:00 noon\nShort Class - Coffee &amp\; 
 Cards Class #26\n\nYou'll finish these 3 cards and decorate matching envel
 opes in class and then you can use these projects as samples or template t
 o make more projects on your own. These are great handmade projects using 
 fresh\, Spring colors that spread happiness wherever you send these beauti
 ful cards. So get ready to enjoy a relaxing Monday Morning full of coffee 
 and creating.\n\nNew stampers\, experienced stampers\, and other Stampin' 
 Up! demonstrators are always welcome. We're using an assortment of Stampin
 ' Up! stamps sets\, die cuts and specialty papers on these cards\, and you
  can take a closer look at these card here.\n\nClick here to register for 
 the class.\n\nClass size is limited. So register now. Your class fee of $1
 5 for these projects and will include precut materials and embellishments.
  Can't make the class? If you already have the stamps\, punches and dies\,
  just order the Class To Go: You'll receive a precut kit you'll stamp on y
 our own along with cutting instructions\, card recipes and how to assemble
  your cards. Use your PayPal account to pay. Or\, if you prefer\, message 
 me \, and ask me to issue you a PayPal invoice for the class.\n\nEvent lin
 k: https://stampinup.net/crm/events/46927
LAST-MODIFIED:20200306T110911
LOCATION:My home\, 14810 Plantation Oak Dr\, Houston\, TX 77068
ORGANIZER;CN=Donna Ross:mailto:dje-ross@swbell.net
SUMMARY:Spring Cards Class - March 9
URL;VALUE=URI:https://stampinup.net/crm/events/46927
END:VEVENT
END:VCALENDAR
