BEGIN:VCALENDAR
VERSION:2.0
PRODID:icalendar-ruby
CALSCALE:GREGORIAN
METHOD:PUBLISH
BEGIN:VEVENT
DTSTAMP:20260422T114235Z
UID:event-46782@stampinup.net
DTSTART;VALUE=DATE:20200327
DTEND;VALUE=DATE:20200327
CREATED:20200305T164531
DESCRIPTION:Due to the COVID-19 Pandemic this event is CANCELLED\nWeekend R
 etreat\n\nEvent link: https://stampinup.net/crm/events/46782
LAST-MODIFIED:20200401T123248
LOCATION:Blowing Rock\, NC
ORGANIZER;CN=Mary Anne Grimmer:mailto:maryanne@mastampstudio.net
SUMMARY:Escape to Create Spring 2020
URL;VALUE=URI:https://stampinup.net/crm/events/46782
END:VEVENT
END:VCALENDAR
