BEGIN:VCALENDAR
VERSION:2.0
PRODID:icalendar-ruby
CALSCALE:GREGORIAN
METHOD:PUBLISH
BEGIN:VEVENT
DTSTAMP:20260424T125334Z
UID:event-46702@stampinup.net
DTSTART;TZID=America/New_York:20200902T110000
DTEND;TZID=America/New_York:20200902T130000
CREATED:20200305T120147
DESCRIPTION:Drop in anytime between 10:00am and 12:00pm to enjoy a cup of c
 offee or tea while you make two fun and easy cards while chatting and shar
 ing creative ideas with some fabulous ladies.   These cards will be greet
 ing cards that you can tailor to your needs such as birthdays\, thank you'
 s\, get well\, good luck etc...\n\nPlease bring your own adhesive.  All o
 ther supplies will be provided\n\n ​Cost $5 or FREE with your $25 order
 !\n\n\nEvent link: https://stampinup.net/crm/events/46702
LAST-MODIFIED:20200826T122616
LOCATION:the Stamp Pad
ORGANIZER;CN=Tracie Langley:mailto:tracie@stampwithtracie.com
SUMMARY:Coffee & Cards
URL;VALUE=URI:https://stampinup.net/crm/events/46702
END:VEVENT
END:VCALENDAR
