BEGIN:VCALENDAR
VERSION:2.0
PRODID:icalendar-ruby
CALSCALE:GREGORIAN
METHOD:PUBLISH
BEGIN:VEVENT
DTSTAMP:20260422T054932Z
UID:event-4630@stampinup.net
DTSTART;TZID=America/Los_Angeles:20191216T190000
DTEND;TZID=America/Los_Angeles:20191216T210000
CREATED:20190912T114428
DESCRIPTION:If you love to colour or would like to give it a try this club 
 is for you!! The perfect way to build your Stampin' blends collection with
 out putting all of the money out at once.\n\nHere is how this Stampin' Ble
 nds club will work:\n* 8 members are required\n* Club will run monthly for
  8 months\n* Each member will take a turn at being the hostess for the mon
 th - receiving the hostess Stampin' Rewards of $28.80 in free product ( 5 
 markers perhaps!!)\n* The monthly cost of the club is $45 and when we meet
  you will have 3 sets (6 markers in total) waiting for you which we will u
 se in making our project(s) that month.\n* If you are the hostess I will c
 ontact you when putting in the order to see what you would like with your 
 hostess credits... they will also be waiting for you.\n* At the end of the
  club you will have 24 sets of markers (48 in total) and be well on your w
 ay to having the entire collection.\n\nThis club is full\, however if you 
 are interested please contact me and I will add you to the list for the ne
 xt one.\n\nEvent link: https://stampinup.net/crm/events/4630
LAST-MODIFIED:20190912T114428
ORGANIZER;CN=Denise Cox:mailto:birdsnestdesigns@gmail.com
SUMMARY:Stampin' Blends Club
URL;VALUE=URI:https://stampinup.net/crm/events/4630
END:VEVENT
END:VCALENDAR
