BEGIN:VCALENDAR
VERSION:2.0
PRODID:icalendar-ruby
CALSCALE:GREGORIAN
METHOD:PUBLISH
BEGIN:VEVENT
DTSTAMP:20260422T095449Z
UID:event-45895@stampinup.net
DTSTART;VALUE=DATE:20200310
DTEND;VALUE=DATE:20200310
CREATED:20200301T181938
DESCRIPTION:\n\nEvent link: https://stampinup.net/crm/events/45895
LAST-MODIFIED:20200301T181938
ORGANIZER;CN=Brenda Paulsen:mailto:brenda@mypastorswifedesigns.com
SUMMARY:Tuesday Tip
URL;VALUE=URI:https://stampinup.net/crm/events/45895
END:VEVENT
END:VCALENDAR
