BEGIN:VCALENDAR
VERSION:2.0
PRODID:icalendar-ruby
CALSCALE:GREGORIAN
METHOD:PUBLISH
BEGIN:VEVENT
DTSTAMP:20260421T034742Z
UID:event-45869@stampinup.net
DTSTART;VALUE=DATE:20200330
DTEND;VALUE=DATE:20200330
CREATED:20200301T151842
DESCRIPTION:Last order before the end of Sale-a-bration....make sure you ca
 sh in. Have all orders to be by 6pm.\n\nEvent link: https://stampinup.net/
 crm/events/45869
LAST-MODIFIED:20200301T151842
ORGANIZER;CN=Mary Louise Hamill:mailto:hammerandstamp@gmail.com
SUMMARY:GROUP ORDER
URL;VALUE=URI:https://stampinup.net/crm/events/45869
END:VEVENT
END:VCALENDAR
