BEGIN:VCALENDAR
VERSION:2.0
PRODID:icalendar-ruby
CALSCALE:GREGORIAN
METHOD:PUBLISH
BEGIN:VEVENT
DTSTAMP:20260425T133311Z
UID:event-45863@stampinup.net
DTSTART;TZID=America/New_York:20200316T183000
DTEND;TZID=America/New_York:20200316T213000
CREATED:20200301T145725
DESCRIPTION:Cost- $10\n\nCome and explore the toys in my studio\, stamps\, 
 inks\, tools\, die cutting machine etc. You can work on any projects you a
 re working on or copy samples that you see here or on such places as Pinte
 rest. It is great time to see what others are up to. Don’t forget your a
 dhesive or plan to purchase here. Please respond by Mar. 15th so that the
  space can be prepared.   \n\n\nEvent link: https://stampinup.net/crm/ev
 ents/45863
LAST-MODIFIED:20200301T145725
ORGANIZER;CN=Mary Louise Hamill:mailto:hammerandstamp@gmail.com
SUMMARY:Open Stamp and Scrap
URL;VALUE=URI:https://stampinup.net/crm/events/45863
END:VEVENT
END:VCALENDAR
