BEGIN:VCALENDAR
VERSION:2.0
PRODID:icalendar-ruby
CALSCALE:GREGORIAN
METHOD:PUBLISH
BEGIN:VEVENT
DTSTAMP:20260422T045536Z
UID:event-45860@stampinup.net
DTSTART;TZID=America/New_York:20200309T130000
DTEND;TZID=America/New_York:20200309T153000
CREATED:20200301T144007
DESCRIPTION:Cost- FREE\n\nEvery once in a while I get asked to explain what
  Paper Pumpkin is. Pretty sure it is not a fall thing. Paper Pumpkin is St
 ampin’ Ups mail order subscription service where your crafting comes to 
 the door for just around $30/month. Most times the projects are cards but 
 there have also been treat holders\, specialty cards\, party decorations e
 tc. In every kit you will get all the supplies\, including small stamp pad
 s\, and stamps (that can be used again and again). Many times you will hav
 e leftovers supplies to use at a later date. Very often on Pinterest demos
  post alternative ideas to use the kits. In this way you are never stuck f
 or ideas. On this evening we will play with past Paper Pumpkin kits and ea
 ch person will leave with at least 3 projects. Please confirm by Mar. 5 so
  that the room can be prepared. Just to keep you informed since Paper Pump
 kin is having its 7th Anniversary with a special. For all subscriptions o
 rdered before March 10th you will get a second stamp set with your box. S
 ubscriptions can be for 1 month\, 3\, 6\, 9 or 12 month subscriptions. Rem
 ember too that this order counts towards the $60 purchase to earn a free i
 tem in Sale-a-bration!\n\n\nEvent link: https://stampinup.net/crm/events/4
 5860
LAST-MODIFIED:20200301T144007
ORGANIZER;CN=Mary Louise Hamill:mailto:hammerandstamp@gmail.com
SUMMARY:Paper Pumpkin Party
URL;VALUE=URI:https://stampinup.net/crm/events/45860
END:VEVENT
END:VCALENDAR
