BEGIN:VCALENDAR
VERSION:2.0
PRODID:icalendar-ruby
CALSCALE:GREGORIAN
METHOD:PUBLISH
BEGIN:VEVENT
DTSTAMP:20260419T200230Z
UID:event-45734@stampinup.net
DTSTART;TZID=Australia/Brisbane:20200318T190000
DTEND;TZID=Australia/Brisbane:20200318T210000
CREATED:20200301T004328
DESCRIPTION:Create 3 cards featuring the Tags In Bloom stamp set and the co
 ordinating Punches for $20.00\nClass is at 10am or at 7pm at my home.  Pl
 ease RSVP to handmadebyjq@hotmail.com or text/ phone 0409 873 820\n\nEvent
  link: https://stampinup.net/crm/events/45734
LAST-MODIFIED:20200301T004328
LOCATION:My Home\, 31 Sugar view Lane Rosemount
ORGANIZER;CN=Julia Quinn:mailto:julia@handmadebyjuliaquinn.com
SUMMARY:Tags in Bloom Class
URL;VALUE=URI:https://stampinup.net/crm/events/45734
END:VEVENT
END:VCALENDAR
