BEGIN:VCALENDAR
VERSION:2.0
PRODID:icalendar-ruby
CALSCALE:GREGORIAN
METHOD:PUBLISH
BEGIN:VEVENT
DTSTAMP:20260420T111848Z
UID:event-4501@stampinup.net
DTSTART;TZID=America/Chicago:20191012T140000
DTEND;TZID=America/Chicago:20191012T170000
CREATED:20190912T103946
DESCRIPTION:Come make 6 cards (3 designs) for $20 or FREE with a $25 order.
  RSVP by 10/11.\n\nEvent link: https://stampinup.net/crm/events/4501
LAST-MODIFIED:20191012T120456
LOCATION:My House
ORGANIZER;CN=Shannon Colón:mailto:Shannon.colon97@gmail.com
SUMMARY:Come to Gather Card Class
URL;VALUE=URI:https://stampinup.net/crm/events/4501
END:VEVENT
END:VCALENDAR
