BEGIN:VCALENDAR
VERSION:2.0
PRODID:icalendar-ruby
CALSCALE:GREGORIAN
METHOD:PUBLISH
BEGIN:VEVENT
DTSTAMP:20260424T025018Z
UID:event-44903@stampinup.net
DTSTART;VALUE=DATE:20200809
DTEND;VALUE=DATE:20200809
CREATED:20200225T071339
DESCRIPTION:Stamping Sunday Blog Hop\nCheck out this month's 2nd Sunday cre
 ative inspiration.\nStart at theartfulinker.com\n\nEvent link: https://sta
 mpinup.net/crm/events/44903
LAST-MODIFIED:20200225T072243
ORGANIZER;CN=Sara Levin:mailto:TheArtfulInker@gmail.com
SUMMARY:Stamping Sunday Blog Hop
URL;VALUE=URI:https://stampinup.net/crm/events/44903
END:VEVENT
END:VCALENDAR
