BEGIN:VCALENDAR
VERSION:2.0
PRODID:icalendar-ruby
CALSCALE:GREGORIAN
METHOD:PUBLISH
BEGIN:VEVENT
DTSTAMP:20260421T100036Z
UID:event-4484@stampinup.net
DTSTART;TZID=America/Chicago:20190915T130000
DTEND;TZID=America/Chicago:20190915T170000
CREATED:20190912T103441
DESCRIPTION:A gathering of demonstrators to share both creative and busines
 s ideas. Two guest speakers are attending from the Stampin' Up! home offic
 e.\n\nEvent link: https://stampinup.net/crm/events/4484
LAST-MODIFIED:20190912T103441
LOCATION:Medina Entertainment Center\, Medina
ORGANIZER;CN=Robyn Rasset:mailto:rrasset@frontier.com
SUMMARY:Creative Connection Demonstrator Only Even
URL;VALUE=URI:https://stampinup.net/crm/events/4484
END:VEVENT
END:VCALENDAR
