BEGIN:VCALENDAR
VERSION:2.0
PRODID:icalendar-ruby
CALSCALE:GREGORIAN
METHOD:PUBLISH
BEGIN:VEVENT
DTSTAMP:20260421T060249Z
UID:event-44679@stampinup.net
DTSTART;TZID=America/New_York:20200312T100000
DTEND;TZID=America/New_York:20200312T120000
CREATED:20200224T125832
DESCRIPTION:Join us for Stamping Fun Club every month on the 2nd Thursday a
 nd Friday.  There are monring and evening classes available.  This club 
 is for those that have some experience stamping or crafting.  We make 2 o
 r 3 projects\, depending upon the degree of difficulty.  If you become a 
 member of the club your projects are free as long as you place at least a 
 $15 order from the current catalogs.  Members are rewarded Stampin' Rewar
 ds after 10 months of participation based on their total purchases during 
 this time.  If you would like to come\, but prefer not to be a member\, y
 ou can pay $10 each time you attend.  Your first time stamping with me is
  free\, so come check us out!\n\nEvent link: https://stampinup.net/crm/eve
 nts/44679
LAST-MODIFIED:20200224T141350
LOCATION:My Studio\, 636 Clermont Lakes Court\, Lexington
ORGANIZER;CN=Maureen Hallman:mailto:mhallman1@gmail.com
SUMMARY:Stamping Fun Club
URL;VALUE=URI:https://stampinup.net/crm/events/44679
END:VEVENT
END:VCALENDAR
