BEGIN:VCALENDAR
VERSION:2.0
PRODID:icalendar-ruby
CALSCALE:GREGORIAN
METHOD:PUBLISH
BEGIN:VEVENT
DTSTAMP:20260425T211638Z
UID:event-44655@stampinup.net
DTSTART;TZID=America/Chicago:20200323T183000
DTEND;TZID=America/Chicago:20200323T203000
CREATED:20200224T100303
DESCRIPTION:\n\nEvent link: https://stampinup.net/crm/events/44655
LAST-MODIFIED:20200224T100303
ORGANIZER;CN=Meg Loven:mailto:MEG@LOVENSTAMPS.COM
SUMMARY:Vickie's Stamping Workshop
URL;VALUE=URI:https://stampinup.net/crm/events/44655
END:VEVENT
END:VCALENDAR
