BEGIN:VCALENDAR
VERSION:2.0
PRODID:icalendar-ruby
CALSCALE:GREGORIAN
METHOD:PUBLISH
BEGIN:VEVENT
DTSTAMP:20260421T182558Z
UID:event-44637@stampinup.net
DTSTART;TZID=America/New_York:20200527T200000
DTEND;TZID=America/New_York:20200527T213000
CREATED:20200224T081138
DESCRIPTION:Wed. May 27th 8pm Mountain Air Class: Come make 8 beautiful ca
 rds which will be perfect for the men and outdoor lovers in your life.  C
 reate stunning landscapes and experience the new patent pending reversible
  stamps. Amazing cost of $40 includes the stamp set.  Add on the coordin
 ating dies for only $45 (while supplies last) RSVP by May 6th but don’t 
 wait as supply with Stampin’ up is limited at the end of a catalogue per
 iod  Class will run via video conference.  Packets will be mailed to you
 r door or can be picked up from my porch.  You will use your own ink but 
 all the paper and embellishments will be included. \n\n\nEvent link: http
 s://stampinup.net/crm/events/44637
LAST-MODIFIED:20200505T200447
LOCATION:zoom video conference
ORGANIZER;CN=Genevieve Ko:mailto:genstampin4fun@gmail.com
SUMMARY:Mountain Air Class
URL;VALUE=URI:https://stampinup.net/crm/events/44637
END:VEVENT
END:VCALENDAR
