BEGIN:VCALENDAR
VERSION:2.0
PRODID:icalendar-ruby
CALSCALE:GREGORIAN
METHOD:PUBLISH
BEGIN:VEVENT
DTSTAMP:20260421T131947Z
UID:event-44636@stampinup.net
DTSTART;TZID=America/New_York:20200527T183000
DTEND;TZID=America/New_York:20200527T194500
CREATED:20200224T080753
DESCRIPTION:Playfully dubbed my "man class"\, \nCome enjoy this relaxing c
 lass where you will make 4 cards appropriate for the men in your life.  N
 ew and experienced stampers welcome to enjoy this evening. Cardmaking kits
  will include pre-cut cardstock\, embellishments\, envelopes and a classic
  ink pad of your colour choice.  Cost: $20 RSVP by May 6th\nSo there is n
 o confusion or disappointment\, there will be NO male models at this class
 . Thank you\n\n\nEvent link: https://stampinup.net/crm/events/44636
LAST-MODIFIED:20200505T200329
LOCATION:Zoom Video Conference
ORGANIZER;CN=Genevieve Ko:mailto:genstampin4fun@gmail.com
SUMMARY:Sweet and Simple Class: Masculine Theme
URL;VALUE=URI:https://stampinup.net/crm/events/44636
END:VEVENT
END:VCALENDAR
