BEGIN:VCALENDAR
VERSION:2.0
PRODID:icalendar-ruby
CALSCALE:GREGORIAN
METHOD:PUBLISH
BEGIN:VEVENT
DTSTAMP:20260422T200634Z
UID:event-4398@stampinup.net
DTSTART;TZID=America/Los_Angeles:20190916T100000
DTEND;TZID=America/Los_Angeles:20190916T120000
CREATED:20190912T094030
DESCRIPTION:For class description and to register\, click here.\n\nEvent li
 nk: https://stampinup.net/crm/events/4398
LAST-MODIFIED:20190912T205517
LOCATION:Erica's Craft Studio\, 3933 Arrow Court\, Victoria\, BC V8N 6E7
ORGANIZER;CN=Erica Edney:mailto:ericajedney@gmail.com
SUMMARY:Adhesives Storage Box
URL;VALUE=URI:https://stampinup.net/crm/events/4398
END:VEVENT
END:VCALENDAR
