BEGIN:VCALENDAR
VERSION:2.0
PRODID:icalendar-ruby
CALSCALE:GREGORIAN
METHOD:PUBLISH
BEGIN:VEVENT
DTSTAMP:20260422T003622Z
UID:event-43749@stampinup.net
DTSTART;TZID=America/New_York:20200221T170000
DTEND;TZID=America/New_York:20200221T210000
CREATED:20200217T210400
DESCRIPTION:Come join me for Cabin Fever Days.  There is a variety of proj
 ects to choose from.  Contact me for more details and project choices.  
 Seating is limited\, so you want to reserve your spot.  It is a fun time 
 with others as you create.  Classes are great for all stamping levels whe
 ther you are a beginner or advanced stamper.  \n\nEvent link: https://sta
 mpinup.net/crm/events/43749
LAST-MODIFIED:20200217T210400
LOCATION:Nancy's Home\, 3860 A Highland Avenue\, Skaneateles
ORGANIZER;CN=Nancy Thompson:mailto:stampinnancyink@gmail.com
SUMMARY:Cabin Fever Days
URL;VALUE=URI:https://stampinup.net/crm/events/43749
END:VEVENT
END:VCALENDAR
