BEGIN:VCALENDAR
VERSION:2.0
PRODID:icalendar-ruby
CALSCALE:GREGORIAN
METHOD:PUBLISH
BEGIN:VEVENT
DTSTAMP:20260424T183134Z
UID:event-42458@stampinup.net
DTSTART;TZID=America/Los_Angeles:20200306T160000
DTEND;TZID=America/Los_Angeles:20200306T163000
CREATED:20200209T235604
DESCRIPTION:CLICK HERE for my Facebook Page!\n\nEvent link: https://stampin
 up.net/crm/events/42458
LAST-MODIFIED:20200209T235604
LOCATION:Pretty Paper Cards Facebook Page
ORGANIZER;CN=Peggy Noe:mailto:peggy@prettypapercards.com
SUMMARY:Friday Facebook Live!
URL;VALUE=URI:https://stampinup.net/crm/events/42458
END:VEVENT
END:VCALENDAR
