BEGIN:VCALENDAR
VERSION:2.0
PRODID:icalendar-ruby
CALSCALE:GREGORIAN
METHOD:PUBLISH
BEGIN:VEVENT
DTSTAMP:20260422T001109Z
UID:event-41901@stampinup.net
DTSTART;TZID=America/Chicago:20200302T121500
DTEND;TZID=America/Chicago:20200302T203000
CREATED:20200206T173116
DESCRIPTION:Stamp Club  \n Mon\, March 2\,  12:15 or 7 PM   Wed\, March
  4\,   7 PM\n \nLearn a new Technique each month\, make a Technique page
  and a project with the technique.  \nClub meets monthly\, and members ea
 ch get a turn as hostess and receive free products.  \nGuests always welc
 ome.  Contact Laura for details.   RSVP by Sun 3-1-2020 \n\nEvent link:
  https://stampinup.net/crm/events/41901
LAST-MODIFIED:20200206T173116
LOCATION:My House\, 1230 Midwest Ln\, Wheaton\, IL 60189
ORGANIZER;CN=Laura Barto:mailto:Laura@studio1stampers.com
SUMMARY:Stamp Club  
URL;VALUE=URI:https://stampinup.net/crm/events/41901
END:VEVENT
END:VCALENDAR
