BEGIN:VCALENDAR
VERSION:2.0
PRODID:icalendar-ruby
CALSCALE:GREGORIAN
METHOD:PUBLISH
BEGIN:VEVENT
DTSTAMP:20260422T010324Z
UID:event-41835@stampinup.net
DTSTART;VALUE=DATE:20200204
DTEND;VALUE=DATE:20200204
CREATED:20200206T131633
DESCRIPTION:\nThis is the perfect opportunity to purchase products that coo
 rdinate with our favorite products from the January–June 2020 Mini Catal
 og and Sale-A-Bration. Only available for a limited time or while supplies
  last.\n\n \n Product List \n\n\n	\n		\n			\n			\n\n			\n			Birthday Dies
 \n\n			[153590]\n\n			$27.00\n			\n			\n			\n			\n			\n			\n			Nature's Th
 oughts Dies\n\n			[153586]\n\n			$29.00\n			\n			\n			\n			\n			\n			\n			
 Ladybugs Dies\n\n			[153588]\n\n			$29.00\n			\n			\n			\n		\n		\n			\n			
 \n			\n			Pleased As Punch Designer Series Paper\n\n			[153558]\n\n			$11.
 50\n			\n			\n			\n			\n			\n			\n			Sending Flowers Dies\n\n			[153589]\n
 \n			$27.00\n			\n			\n			\n			\n			\n			\n			Special Day Dies\n\n			[1535
 87]\n\n			$29.00\n			\n			\n			\n		\n	\n\n\n \n\nEvent link: https://stam
 pinup.net/crm/events/41835
LAST-MODIFIED:20200206T131633
ORGANIZER;CN=Melissa Stout:mailto:melissathestampdoc@gmail.com
SUMMARY:Coordination Product Release
URL;VALUE=URI:https://stampinup.net/crm/events/41835
END:VEVENT
END:VCALENDAR
