BEGIN:VCALENDAR
VERSION:2.0
PRODID:icalendar-ruby
CALSCALE:GREGORIAN
METHOD:PUBLISH
BEGIN:VEVENT
DTSTAMP:20260421T201053Z
UID:event-41823@stampinup.net
DTSTART;TZID=America/New_York:20200222T140000
DTEND;TZID=America/New_York:20200222T160000
CREATED:20200206T124908
DESCRIPTION:Do you find it challenging to create cards for the men in your 
 life? Then this class is for you! We will be making 5 different MASCULINE 
 cards for a variety of occasions. Cost is $15 if paid by February 15th. Af
 ter that\, price increases to $20 per person. All supplies except adhesive
  will be provided.\n \n\n\n\nEvent link: https://stampinup.net/crm/events
 /41823
LAST-MODIFIED:20200206T124908
LOCATION:Stout Chiropractic\, 1781 E Lincoln Road\, Kokomo\, IN  46902
ORGANIZER;CN=Melissa Stout:mailto:melissathestampdoc@gmail.com
SUMMARY:Masculine Card Class
URL;VALUE=URI:https://stampinup.net/crm/events/41823
END:VEVENT
END:VCALENDAR
