BEGIN:VCALENDAR
VERSION:2.0
PRODID:icalendar-ruby
CALSCALE:GREGORIAN
METHOD:PUBLISH
BEGIN:VEVENT
DTSTAMP:20260422T155643Z
UID:event-4176@stampinup.net
DTSTART;TZID=America/Chicago:20191215T190000
DTEND;TZID=America/Chicago:20191215T200000
CREATED:20190912T075322
DESCRIPTION:COME JOIN ME LIVE FOR SOME FUN CRAFTING!\n\nEvent link: https:/
 /stampinup.net/crm/events/4176
LAST-MODIFIED:20190920T181549
LOCATION:Savvy Stamps Facebook Page\, https://www.facebook.com/Savvy-Stamps
 -1572882496104094/?ref=bookmarks
ORGANIZER;CN=Danette Herrera:mailto:savvy.stamps@gmail.com
SUMMARY:Facebook Live!
URL;VALUE=URI:https://stampinup.net/crm/events/4176
END:VEVENT
END:VCALENDAR
