BEGIN:VCALENDAR
VERSION:2.0
PRODID:icalendar-ruby
CALSCALE:GREGORIAN
METHOD:PUBLISH
BEGIN:VEVENT
DTSTAMP:20260421T142010Z
UID:event-41702@stampinup.net
DTSTART;TZID=America/New_York:20200310T113000
DTEND;TZID=America/New_York:20200310T123000
CREATED:20200205T213611
DESCRIPTION:Getting together with all the Ladies of LCS for a time of fun &
 amp\; fellowship with Gail Criscone. \n\nEvent link: https://stampinup.ne
 t/crm/events/41702
LAST-MODIFIED:20200228T214721
LOCATION:Chilli's\, Bradenton
ORGANIZER;CN=Kathy McDaniel:mailto:kathy@cuttingupwithkathy.com
SUMMARY:Loving Hearts Senior Ladies Luncheon
URL;VALUE=URI:https://stampinup.net/crm/events/41702
END:VEVENT
END:VCALENDAR
