BEGIN:VCALENDAR
VERSION:2.0
PRODID:icalendar-ruby
CALSCALE:GREGORIAN
METHOD:PUBLISH
BEGIN:VEVENT
DTSTAMP:20260419T220426Z
UID:event-41553@stampinup.net
DTSTART;VALUE=DATE:20210627
DTEND;VALUE=DATE:20210703
CREATED:20200205T100121
DESCRIPTION:BIRTHDAY WEEK!\n\nEvent link: https://stampinup.net/crm/events/
 41553
LAST-MODIFIED:20200804T084752
ORGANIZER;CN=Karen Buttery:mailto:Karenbuttery28@gmail.com
SUMMARY:BIRTHDAY WEEK!
URL;VALUE=URI:https://stampinup.net/crm/events/41553
END:VEVENT
END:VCALENDAR
