BEGIN:VCALENDAR
VERSION:2.0
PRODID:icalendar-ruby
CALSCALE:GREGORIAN
METHOD:PUBLISH
BEGIN:VEVENT
DTSTAMP:20260422T143936Z
UID:event-41437@stampinup.net
DTSTART;TZID=America/Chicago:20200209T133000
DTEND;TZID=America/Chicago:20200209T173000
CREATED:20200204T192450
DESCRIPTION:Join us for an afternoon of Valentine Card-making and cards for
  other occasions so you'll still have time to get send your favorite dream
 y fellow\, that beloved Aunt or fond friend a sweet surprise to let them k
 now you care. Make that card to express your adoration\, affection or admi
 ration We love creating the perfect card to express our passion.\n\nYou'l 
 finish these 6 cards and decorate matching envelopes in class and then you
  can use these projects as samples or template to make more projects on yo
 ur own. These are great handmade projects to use when you want to send a s
 pecial message to family or friends.\n\nYou'll use stamp sets\, papers\, a
 nd embellishments from the latest Stampin' Up! catalog\, the January-June 
 2020 Mini Catalog and from the Free Sale-A-Bration selections. These are g
 reat handmade projects to use when you want to send a special message to f
 riends\, or family.\n\nTake a look at close up photos for this class here 
 (https://www.meetup.com/NW-Houston-F-M-1960-Spring-CardMakers/photos/30716
 160/).\n\nNew stampers\, experienced stampers\, and other Stampin' Up! dem
 onstrators are always welcome. It's a great way to create samples\, share 
 ideas and learn from each other. We have a great bunch of stampers who enj
 oy joking and laughing while stamping the afternoon away.\n\nOur Australia
 n Shepherd\, Cookie\, greets all guests with doggy kisses and happy barkin
 g\, and she loves hugs from all visitors. We would love to have you join u
 s!\n\nRegister now and invite a friend\; class size is limited. Class fee 
 of $30 will include pre-cut materials including die cuts\, cardstock\, and
  embellishments for the projects we'll make during this class.\n\nNOTE: Pr
 epayment for the class is required via PayPal. Materials are cut when paym
 ent is received. Sorry\, no walk-ins as all materials are precut. Contact 
 me at: (https://donnaross.stampinup.net/contact_me) or through my Meetup p
 rofile with questions.\n\nPlease use your PayPal account to send your clas
 s fee to my Paypal.com at:\n(dje-ross@swbell.net)\nUsing your PayPal accou
 nt means you can use your PayPal balance or a credit card to pay securely.
  Contact me if you prefer I send you a PayPal invoice.\n\nIf you're unable
  to attend the live\, in-person class\, you can purchase a kit to stamp an
 d assemble on own if you already have these stamp sets. Contact me to pick
  up your kit. If you prefer your kit mailed\, please add $7.55 Priority Ra
 te postage to your $30 class fee.\n\nWhat to bring: Bring a bone folder\, 
 your favorite scissors\, your own snail adhesive and/or a wet adhesive\, l
 ike Tombow Multi-Purpose adhesive. I will have snail runners\, refills\, a
 nd adhesive to purchase the day of class if you run out.\n\nFirst-time sta
 mpers can use my supplies to see what you like to use\, and then purchase 
 your own consumable supplies (snail\, tape\, glue) if this is a hobby you 
 would like to continue.\n\nTo Order Supplies from my online store: (https:
 //www.stampinup.com/ecweb/default.aspx?dbwsdemoid=100492). Download the St
 ampin' Up! catalogs\, and to see Stampin' Up! Specials going on right now.
  Use this link to download the Catalogs. (https://www.stampinup.com/ecweb/
 products/101700/catalogs?dbwsdemoid=100492)\n\nFree hard copy of the catal
 og (s) when you attend class.\nGet new card ideas by subscribing to my blo
 g (http://www.stampedsophisticates.com/) or follow me on Instagram(https:/
 /www.instagram.com/donnajross/?hl=en).\n\nTo order Stampin' Up! products a
 nytime\, 24/7: (https://www.stampinup.com/ecweb/default.aspx?dbwsdemoid=10
 0492)\n\nEvent link: https://stampinup.net/crm/events/41437
LAST-MODIFIED:20200204T192450
LOCATION:My home\, 14810 Plantation Oak Dr\, Houston\, TX 77068
ORGANIZER;CN=Donna Ross:mailto:dje-ross@swbell.net
SUMMARY:Valentine and other card Card Class ...Just in Time for Valentine's
  Day
URL;VALUE=URI:https://stampinup.net/crm/events/41437
END:VEVENT
END:VCALENDAR
