BEGIN:VCALENDAR
VERSION:2.0
PRODID:icalendar-ruby
CALSCALE:GREGORIAN
METHOD:PUBLISH
BEGIN:VEVENT
DTSTAMP:20260421T083848Z
UID:event-41387@stampinup.net
DTSTART;TZID=America/Denver:20200318T123000
DTEND;TZID=America/Denver:20200318T140000
CREATED:20200204T153322
DESCRIPTION:My upline\, Debra Godfrey\, lives here in Boise and she invites
  her downline to a monthly meeting where we get business\, product and sta
 mping tips.  Plus we create a new product make &amp\; take item to share 
 with our customers.  Join my team and you can come along with me!\n\nEven
 t link: https://stampinup.net/crm/events/41387
LAST-MODIFIED:20200204T154336
LOCATION:Boise\, ID
ORGANIZER;CN=Blythe Klipple:mailto:BLYTHEK@MAC.COM
SUMMARY:Downline Stampin' Meeting
URL;VALUE=URI:https://stampinup.net/crm/events/41387
END:VEVENT
END:VCALENDAR
